BEGIN:VCALENDAR
VERSION:2.0
PRODID:-//Welcome To The Health Consortium of San Gabriel Valley - ECPv6.15.14//NONSGML v1.0//EN
CALSCALE:GREGORIAN
METHOD:PUBLISH
X-WR-CALNAME:Welcome To The Health Consortium of San Gabriel Valley
X-ORIGINAL-URL:https://healthconsortiumsgv.org
X-WR-CALDESC:Events for Welcome To The Health Consortium of San Gabriel Valley
REFRESH-INTERVAL;VALUE=DURATION:PT1H
X-Robots-Tag:noindex
X-PUBLISHED-TTL:PT1H
BEGIN:VTIMEZONE
TZID:UTC
BEGIN:STANDARD
TZOFFSETFROM:+0000
TZOFFSETTO:+0000
TZNAME:UTC
DTSTART:20250101T000000
END:STANDARD
END:VTIMEZONE
BEGIN:VEVENT
DTSTART;TZID=UTC:20260302T100000
DTEND;TZID=UTC:20260302T120000
DTSTAMP:20260423T205704
CREATED:20260113T204548Z
LAST-MODIFIED:20260210T014313Z
UID:10168-1772445600-1772452800@healthconsortiumsgv.org
SUMMARY:2025 SGV Hospital Community Health Needs Assessments: Key Findings & Community Priorities
DESCRIPTION:Join us for an informative Health Consortium meeting to learn about the key community health priorities & initiatives of our local nonprofit hospitals. The meeting will convene at the City of Hope Medical Center\, Duarte\, on MONDAY\, March 2\, 2026. To register\, please click on the link provided below\, under “details”.\nThe CHNA report is produced by all U.S. private nonprofit hospitals every three years\, as required by the  IRS. It identifies the significant health needs in the community\, based on the input of key stakeholders and community members\, available research and other data points. 
URL:https://healthconsortiumsgv.org/event/special-combined-full-group-hospital-collaborative-meeting/
LOCATION:City of Hope Medical Center\, Duarte\, CA
END:VEVENT
END:VCALENDAR