BEGIN:VCALENDAR
VERSION:2.0
PRODID:-//Welcome To The Health Consortium of San Gabriel Valley - ECPv6.15.14//NONSGML v1.0//EN
CALSCALE:GREGORIAN
METHOD:PUBLISH
X-WR-CALNAME:Welcome To The Health Consortium of San Gabriel Valley
X-ORIGINAL-URL:https://healthconsortiumsgv.org
X-WR-CALDESC:Events for Welcome To The Health Consortium of San Gabriel Valley
REFRESH-INTERVAL;VALUE=DURATION:PT1H
X-Robots-Tag:noindex
X-PUBLISHED-TTL:PT1H
BEGIN:VTIMEZONE
TZID:UTC
BEGIN:STANDARD
TZOFFSETFROM:+0000
TZOFFSETTO:+0000
TZNAME:UTC
DTSTART:20250101T000000
END:STANDARD
END:VTIMEZONE
BEGIN:VEVENT
DTSTART;TZID=UTC:20260113T130000
DTEND;TZID=UTC:20260113T143000
DTSTAMP:20260424T004228
CREATED:20260106T010608Z
LAST-MODIFIED:20260106T010608Z
UID:10125-1768309200-1768314600@healthconsortiumsgv.org
SUMMARY:January 13\, 2026 Full Group Meeting
DESCRIPTION:In recognition of Cervical Cancer Awareness Month\, our presenters will share insights on cancer vaccines\, trends\, and services.\nPresenters:\nRaquael Joiner\, PhD\, Research Analyst III\, Office of Women’s Health\, Los Angeles County Department of Public Health\nJudy Tung\, MHS\, PA-C\, Lead Clinician\, Planned Parenthood Pasadena and San Gabriel Valley\n\nTo register\, please visit the following link: https://bit.ly/Jan2026FullGroup
URL:https://healthconsortiumsgv.org/event/january-13-2026-full-group-meeting/
END:VEVENT
END:VCALENDAR