BEGIN:VCALENDAR
VERSION:2.0
PRODID:-//Welcome To The Health Consortium of San Gabriel Valley - ECPv6.15.14//NONSGML v1.0//EN
CALSCALE:GREGORIAN
METHOD:PUBLISH
X-WR-CALNAME:Welcome To The Health Consortium of San Gabriel Valley
X-ORIGINAL-URL:https://healthconsortiumsgv.org
X-WR-CALDESC:Events for Welcome To The Health Consortium of San Gabriel Valley
REFRESH-INTERVAL;VALUE=DURATION:PT1H
X-Robots-Tag:noindex
X-PUBLISHED-TTL:PT1H
BEGIN:VTIMEZONE
TZID:UTC
BEGIN:STANDARD
TZOFFSETFROM:+0000
TZOFFSETTO:+0000
TZNAME:UTC
DTSTART:20190101T000000
END:STANDARD
END:VTIMEZONE
BEGIN:VEVENT
DTSTART;TZID=UTC:20200901T130000
DTEND;TZID=UTC:20200901T150000
DTSTAMP:20260425T135951
CREATED:20200721T003334Z
LAST-MODIFIED:20200723T180545Z
UID:1084-1598965200-1598972400@healthconsortiumsgv.org
SUMMARY:Full Group Meeting
DESCRIPTION: Agenda items will include presentations on:\n\nCOVID-19 and Preparing for the Flu Season – Kimberly A. Shriner\, MD\, Infectious Disease Specialist at Huntington Hospital\nBehavioral Health Urgent Care Center Opening in SPA 3 – Lesley Castaneda\, Program Director\, BHUCC
URL:https://healthconsortiumsgv.org/event/full-group-meeting/
LOCATION:CA
END:VEVENT
BEGIN:VEVENT
DTSTART;TZID=UTC:20200819T120000
DTEND;TZID=UTC:20200819T131500
DTSTAMP:20260425T135951
CREATED:20200721T004130Z
LAST-MODIFIED:20200721T144540Z
UID:1088-1597838400-1597842900@healthconsortiumsgv.org
SUMMARY:Webinar-Exploring the Intersection of Diabetes and Depression
DESCRIPTION:Register Here
URL:https://healthconsortiumsgv.org/event/webinar-exploring-the-intersection-of-diabetes-and-depression-webinar/
LOCATION:CA
END:VEVENT
BEGIN:VEVENT
DTSTART;TZID=UTC:20200811T080000
DTEND;TZID=UTC:20200811T170000
DTSTAMP:20260425T135951
CREATED:20200811T175440Z
LAST-MODIFIED:20200811T175632Z
UID:1461-1597132800-1597165200@healthconsortiumsgv.org
SUMMARY:20th Anniversary Celebration Event! October 22\, 2020 5:00-6:00pm via Zoom
DESCRIPTION:We are celebrating 20 years on October 22\, 2020 from 5:00-6:00pm. Gather with colleagues and join us for games\, festive music and give-a-ways! Zoom invite to follow! \nSee here for more info!
URL:https://healthconsortiumsgv.org/event/20th-anniversary-celebration-event-october-22-2020-500-600pm-via-zoom/
LOCATION:CA
END:VEVENT
BEGIN:VEVENT
DTSTART;TZID=UTC:20200730T123000
DTEND;TZID=UTC:20200730T134500
DTSTAMP:20260425T135951
CREATED:20200721T003054Z
LAST-MODIFIED:20200721T003054Z
UID:1080-1596112200-1596116700@healthconsortiumsgv.org
SUMMARY:Sustainability and Finance Committee Meeting
DESCRIPTION:
URL:https://healthconsortiumsgv.org/event/sustainability-and-finance-committee-meeting/
LOCATION:CA
END:VEVENT
BEGIN:VEVENT
DTSTART;TZID=UTC:20200723T150000
DTEND;TZID=UTC:20200723T160000
DTSTAMP:20260425T135951
CREATED:20200721T003149Z
LAST-MODIFIED:20200721T003149Z
UID:1082-1595516400-1595520000@healthconsortiumsgv.org
SUMMARY:SAMC Meeting
DESCRIPTION:
URL:https://healthconsortiumsgv.org/event/samc-meeting/
LOCATION:CA
END:VEVENT
END:VCALENDAR