BEGIN:VCALENDAR
VERSION:2.0
PRODID:-//Welcome To The Health Consortium of San Gabriel Valley - ECPv6.15.14//NONSGML v1.0//EN
CALSCALE:GREGORIAN
METHOD:PUBLISH
X-ORIGINAL-URL:https://healthconsortiumsgv.org
X-WR-CALDESC:Events for Welcome To The Health Consortium of San Gabriel Valley
REFRESH-INTERVAL;VALUE=DURATION:PT1H
X-Robots-Tag:noindex
X-PUBLISHED-TTL:PT1H
BEGIN:VTIMEZONE
TZID:UTC
BEGIN:STANDARD
TZOFFSETFROM:+0000
TZOFFSETTO:+0000
TZNAME:UTC
DTSTART:20250101T000000
END:STANDARD
END:VTIMEZONE
BEGIN:VEVENT
DTSTART;TZID=UTC:20260420T080000
DTEND;TZID=UTC:20260420T163000
DTSTAMP:20260423T213742
CREATED:20260106T005301Z
LAST-MODIFIED:20260127T170854Z
UID:10123-1776672000-1776702600@healthconsortiumsgv.org
SUMMARY:2026 San Gabriel Valley Health Summit: Preserving Access and Equity in the SGV
DESCRIPTION:Speakers will examine how federal and state policy changes affect access to care in the SGV and spotlight strategies and innovations organizations are using to sustain services\, maximize limited resources\, and advance health equity. Participants will also engage in cross-sector dialogue to raise awareness of regional health inequities and strengthen collaboration.
URL:https://healthconsortiumsgv.org/event/save-the-date-2026-sgv-health-summit/
LOCATION:City of Hope Medical Center\, Duarte\, CA
END:VEVENT
END:VCALENDAR