BEGIN:VCALENDAR
VERSION:2.0
PRODID:-//Welcome To The Health Consortium of San Gabriel Valley - ECPv6.15.14//NONSGML v1.0//EN
CALSCALE:GREGORIAN
METHOD:PUBLISH
X-ORIGINAL-URL:https://healthconsortiumsgv.org
X-WR-CALDESC:Events for Welcome To The Health Consortium of San Gabriel Valley
REFRESH-INTERVAL;VALUE=DURATION:PT1H
X-Robots-Tag:noindex
X-PUBLISHED-TTL:PT1H
BEGIN:VTIMEZONE
TZID:UTC
BEGIN:STANDARD
TZOFFSETFROM:+0000
TZOFFSETTO:+0000
TZNAME:UTC
DTSTART:20240101T000000
END:STANDARD
END:VTIMEZONE
BEGIN:VEVENT
DTSTART;TZID=UTC:20250304T130000
DTEND;TZID=UTC:20250304T143000
DTSTAMP:20260424T200255
CREATED:20250205T182130Z
LAST-MODIFIED:20250205T183640Z
UID:8044-1741093200-1741098600@healthconsortiumsgv.org
SUMMARY:March Full Group Meeting
DESCRIPTION:Save the Date of March 4\, 2025!\nThis will be an in-person meeting with opportunities to network and learn about topics that impact our local communities.\nAdditional information and registration link to come!
URL:https://healthconsortiumsgv.org/event/march-full-group-meeting/
LOCATION:Herald Christian Health Center\, 3401 Aerojet Ave.\, El Monte\, CA\, 91731\, United States
END:VEVENT
END:VCALENDAR